Package: KEGGlincs Version: 1.35.0 Command: rm -rf KEGGlincs.buildbin-libdir && mkdir KEGGlincs.buildbin-libdir && /Users/biocbuild/BBS/utils/build-universal.sh KEGGlincs_1.35.0.tar.gz /Library/Frameworks/R.framework/Resources/bin/R KEGGlincs.buildbin-libdir StartedAt: 2025-10-23 23:14:22 -0400 (Thu, 23 Oct 2025) EndedAt: 2025-10-23 23:14:31 -0400 (Thu, 23 Oct 2025) EllapsedTime: 8.2 seconds RetCode: 0 Status: OK PackageFile: KEGGlincs_1.35.0.tgz PackageFileSize: 2.28 MiB