Package: KEGGgraph Version: 1.69.0 Command: chmod a+r KEGGgraph -R && F:\biocbuild\bbs-3.22-bioc\R\bin\R.exe CMD build --keep-empty-dirs --no-resave-data KEGGgraph StartedAt: 2025-08-14 21:04:23 -0400 (Thu, 14 Aug 2025) EndedAt: 2025-08-14 21:05:27 -0400 (Thu, 14 Aug 2025) EllapsedTime: 63.6 seconds RetCode: 0 Status: OK PackageFile: KEGGgraph_1.69.0.tar.gz PackageFileSize: 1.302 MiB