Package: KCsmart Version: 2.67.0 Command: /home/biocbuild/R/R/bin/R CMD INSTALL KCsmart StartedAt: 2025-10-16 21:24:13 -0000 (Thu, 16 Oct 2025) EndedAt: 2025-10-16 21:24:28 -0000 (Thu, 16 Oct 2025) EllapsedTime: 15.4 seconds RetCode: 0 Status: OK