Package: KCsmart Version: 2.67.0 Command: /home/biocbuild/R/R/bin/R CMD check --install=check:KCsmart.install-out.txt --library=/home/biocbuild/R/R/site-library --no-vignettes --timings KCsmart_2.67.0.tar.gz StartedAt: 2025-10-17 10:27:15 -0000 (Fri, 17 Oct 2025) EndedAt: 2025-10-17 10:28:56 -0000 (Fri, 17 Oct 2025) EllapsedTime: 101.1 seconds RetCode: 0 Status: WARNINGS CheckDir: KCsmart.Rcheck Warnings: 1