Package: KCsmart Version: 2.67.0 Command: rm -rf KCsmart.buildbin-libdir && mkdir KCsmart.buildbin-libdir && F:\biocbuild\bbs-3.22-bioc\R\bin\R.exe CMD INSTALL --build --library=KCsmart.buildbin-libdir KCsmart_2.67.0.tar.gz StartedAt: 2025-08-15 10:33:37 -0400 (Fri, 15 Aug 2025) EndedAt: 2025-08-15 10:34:15 -0400 (Fri, 15 Aug 2025) EllapsedTime: 38.6 seconds RetCode: 0 Status: OK PackageFile: KCsmart_2.67.0.zip PackageFileSize: 2.108 MiB