Package: KCsmart Version: 2.67.0 Command: /home/biocbuild/bbs-3.22-bioc/R/bin/R CMD INSTALL KCsmart StartedAt: 2025-10-19 15:13:50 -0400 (Sun, 19 Oct 2025) EndedAt: 2025-10-19 15:14:01 -0400 (Sun, 19 Oct 2025) EllapsedTime: 10.5 seconds RetCode: 0 Status: OK