Package: KCsmart Version: 2.67.0 Command: /home/biocbuild/bbs-3.22-bioc/R/bin/R CMD check --install=check:KCsmart.install-out.txt --library=/home/biocbuild/bbs-3.22-bioc/R/site-library --timings KCsmart_2.67.0.tar.gz StartedAt: 2025-10-20 01:15:44 -0400 (Mon, 20 Oct 2025) EndedAt: 2025-10-20 01:17:14 -0400 (Mon, 20 Oct 2025) EllapsedTime: 90.1 seconds RetCode: 0 Status: WARNINGS CheckDir: KCsmart.Rcheck Warnings: 1