Package: KCsmart Version: 2.67.0 Command: /Library/Frameworks/R.framework/Resources/bin/R CMD INSTALL KCsmart StartedAt: 2025-10-19 15:16:36 -0400 (Sun, 19 Oct 2025) EndedAt: 2025-10-19 15:16:54 -0400 (Sun, 19 Oct 2025) EllapsedTime: 17.7 seconds RetCode: 0 Status: OK