Package: KCsmart Version: 2.67.0 Command: rm -rf KCsmart.buildbin-libdir && mkdir KCsmart.buildbin-libdir && /Users/biocbuild/BBS/utils/build-universal.sh KCsmart_2.67.0.tar.gz /Library/Frameworks/R.framework/Resources/bin/R KCsmart.buildbin-libdir StartedAt: 2025-10-20 03:15:48 -0400 (Mon, 20 Oct 2025) EndedAt: 2025-10-20 03:16:06 -0400 (Mon, 20 Oct 2025) EllapsedTime: 17.8 seconds RetCode: 0 Status: OK PackageFile: KCsmart_2.67.0.tgz PackageFileSize: 2.202 MiB