Package: KCsmart Version: 2.67.0 Command: /Library/Frameworks/R.framework/Resources/bin/R CMD build --keep-empty-dirs --no-resave-data KCsmart StartedAt: 2025-10-19 16:48:00 -0400 (Sun, 19 Oct 2025) EndedAt: 2025-10-19 16:48:12 -0400 (Sun, 19 Oct 2025) EllapsedTime: 12.1 seconds RetCode: 0 Status: OK PackageFile: KCsmart_2.67.0.tar.gz PackageFileSize: 1.818 MiB