Package: KCsmart Version: 2.67.0 Command: rm -rf KCsmart.buildbin-libdir && mkdir KCsmart.buildbin-libdir && /Users/biocbuild/BBS/utils/build-universal.sh KCsmart_2.67.0.tar.gz /Library/Frameworks/R.framework/Resources/bin/R KCsmart.buildbin-libdir StartedAt: 2025-10-19 23:04:04 -0400 (Sun, 19 Oct 2025) EndedAt: 2025-10-19 23:04:09 -0400 (Sun, 19 Oct 2025) EllapsedTime: 5.1 seconds RetCode: 0 Status: OK PackageFile: KCsmart_2.67.0.tgz PackageFileSize: 2.204 MiB