Package: KCsmart Version: 2.67.0 Maintainer: Jorma de Ronde MaintainerEmail: j.d.ronde at nki.nl git_url: https://git.bioconductor.org/packages/KCsmart git_branch: devel git_last_commit: 5252783 git_last_commit_date: 2025-04-15 09:43:12 -0400 (Tue, 15 Apr 2025)