Package: KBoost Version: 1.17.0 Command: F:\biocbuild\bbs-3.22-bioc\R\bin\R.exe CMD check --no-multiarch --install=check:KBoost.install-out.txt --library=F:\biocbuild\bbs-3.22-bioc\R\library --no-vignettes --timings KBoost_1.17.0.tar.gz StartedAt: 2025-08-15 04:30:49 -0400 (Fri, 15 Aug 2025) EndedAt: 2025-08-15 04:31:42 -0400 (Fri, 15 Aug 2025) EllapsedTime: 52.6 seconds RetCode: 0 Status: OK CheckDir: KBoost.Rcheck Warnings: 0