Package: KBoost Version: 1.17.0 Command: /home/biocbuild/bbs-3.22-bioc/R/bin/R CMD check --install=check:KBoost.install-out.txt --library=/home/biocbuild/bbs-3.22-bioc/R/site-library --timings KBoost_1.17.0.tar.gz StartedAt: 2025-10-21 01:09:25 -0400 (Tue, 21 Oct 2025) EndedAt: 2025-10-21 01:09:59 -0400 (Tue, 21 Oct 2025) EllapsedTime: 34.1 seconds RetCode: 0 Status: OK CheckDir: KBoost.Rcheck Warnings: 0