Package: KBoost Version: 1.17.0 Command: /home/biocbuild/bbs-3.22-bioc/R/bin/R CMD build --keep-empty-dirs --no-resave-data --md5 KBoost StartedAt: 2025-10-20 18:15:30 -0400 (Mon, 20 Oct 2025) EndedAt: 2025-10-20 18:15:37 -0400 (Mon, 20 Oct 2025) EllapsedTime: 7.0 seconds RetCode: 0 Status: OK PackageFile: KBoost_1.17.0.tar.gz PackageFileSize: 506.3 KiB