Package: KBoost Version: 1.17.0 Command: /Library/Frameworks/R.framework/Resources/bin/R CMD check --install=check:KBoost.install-out.txt --library=/Library/Frameworks/R.framework/Resources/library --no-vignettes --timings KBoost_1.17.0.tar.gz StartedAt: 2025-10-20 23:23:25 -0400 (Mon, 20 Oct 2025) EndedAt: 2025-10-20 23:24:24 -0400 (Mon, 20 Oct 2025) EllapsedTime: 58.7 seconds RetCode: 0 Status: OK CheckDir: KBoost.Rcheck Warnings: 0