Package: KBoost Version: 1.17.0 Command: /Library/Frameworks/R.framework/Resources/bin/R CMD build --keep-empty-dirs --no-resave-data KBoost StartedAt: 2025-10-21 17:51:26 -0400 (Tue, 21 Oct 2025) EndedAt: 2025-10-21 17:51:48 -0400 (Tue, 21 Oct 2025) EllapsedTime: 21.8 seconds RetCode: 0 Status: OK PackageFile: KBoost_1.17.0.tar.gz PackageFileSize: 503.9 KiB