Package: KBoost Version: 1.17.0 Command: /Library/Frameworks/R.framework/Resources/bin/R CMD INSTALL KBoost StartedAt: 2025-10-20 15:01:19 -0400 (Mon, 20 Oct 2025) EndedAt: 2025-10-20 15:01:21 -0400 (Mon, 20 Oct 2025) EllapsedTime: 2.6 seconds RetCode: 0 Status: OK