Package: IsoformSwitchAnalyzeR Version: 2.10.0 Command: /home/biocbuild/bbs-3.22-bioc/R/bin/R CMD check --install=check:IsoformSwitchAnalyzeR.install-out.txt --library=/home/biocbuild/bbs-3.22-bioc/R/site-library --timings IsoformSwitchAnalyzeR_2.10.0.tar.gz StartedAt: 2025-11-01 00:56:17 -0400 (Sat, 01 Nov 2025) EndedAt: 2025-11-01 01:09:02 -0400 (Sat, 01 Nov 2025) EllapsedTime: 765.0 seconds RetCode: 0 Status: OK CheckDir: IsoformSwitchAnalyzeR.Rcheck Warnings: 0