Package: IsoformSwitchAnalyzeR Version: 2.10.0 Command: /Library/Frameworks/R.framework/Resources/bin/R CMD check --install=check:IsoformSwitchAnalyzeR.install-out.txt --library=/Library/Frameworks/R.framework/Resources/library --no-vignettes --timings IsoformSwitchAnalyzeR_2.10.0.tar.gz StartedAt: 2025-10-31 22:01:58 -0400 (Fri, 31 Oct 2025) EndedAt: 2025-10-31 22:13:43 -0400 (Fri, 31 Oct 2025) EllapsedTime: 704.7 seconds RetCode: 0 Status: OK CheckDir: IsoformSwitchAnalyzeR.Rcheck Warnings: 0