Package: IsoCorrectoRGUI Version: 1.25.0 Command: /home/biocbuild/R/R/bin/R CMD build --keep-empty-dirs --no-resave-data IsoCorrectoRGUI StartedAt: 2025-10-17 02:07:43 -0000 (Fri, 17 Oct 2025) EndedAt: 2025-10-17 02:07:53 -0000 (Fri, 17 Oct 2025) EllapsedTime: 10.0 seconds RetCode: 0 Status: OK PackageFile: IsoCorrectoRGUI_1.25.0.tar.gz PackageFileSize: 464.2 KiB