Package: IsoBayes Version: 1.8.0 Command: /home/biocbuild/R/R/bin/R CMD check --install=check:IsoBayes.install-out.txt --library=/home/biocbuild/R/R/site-library --no-vignettes --timings IsoBayes_1.8.0.tar.gz StartedAt: 2025-11-18 11:10:23 -0000 (Tue, 18 Nov 2025) EndedAt: 2025-11-18 11:18:18 -0000 (Tue, 18 Nov 2025) EllapsedTime: 474.5 seconds RetCode: 0 Status: OK CheckDir: IsoBayes.Rcheck Warnings: 0