Package: IsoBayes Version: 1.8.0 Command: /home/biocbuild/bbs-3.22-bioc/R/bin/R CMD INSTALL IsoBayes StartedAt: 2025-11-16 15:25:17 -0500 (Sun, 16 Nov 2025) EndedAt: 2025-11-16 15:26:07 -0500 (Sun, 16 Nov 2025) EllapsedTime: 50.1 seconds RetCode: 0 Status: OK