Package: IsoBayes Version: 1.8.0 Command: /Library/Frameworks/R.framework/Resources/bin/R CMD INSTALL IsoBayes StartedAt: 2025-11-03 15:31:39 -0500 (Mon, 03 Nov 2025) EndedAt: 2025-11-03 15:32:36 -0500 (Mon, 03 Nov 2025) EllapsedTime: 56.3 seconds RetCode: 0 Status: OK