Package: IsoBayes Version: 1.8.0 Command: /Library/Frameworks/R.framework/Resources/bin/R CMD check --install=check:IsoBayes.install-out.txt --library=/Library/Frameworks/R.framework/Resources/library --no-vignettes --timings IsoBayes_1.8.0.tar.gz StartedAt: 2025-11-03 22:03:03 -0500 (Mon, 03 Nov 2025) EndedAt: 2025-11-03 22:09:56 -0500 (Mon, 03 Nov 2025) EllapsedTime: 412.8 seconds RetCode: 0 Status: OK CheckDir: IsoBayes.Rcheck Warnings: 0