Package: IsoBayes Version: 1.8.0 Command: rm -rf IsoBayes.buildbin-libdir && mkdir IsoBayes.buildbin-libdir && /Users/biocbuild/BBS/utils/build-universal.sh IsoBayes_1.8.0.tar.gz /Library/Frameworks/R.framework/Resources/bin/R IsoBayes.buildbin-libdir StartedAt: 2025-11-04 01:46:21 -0500 (Tue, 04 Nov 2025) EndedAt: 2025-11-04 01:47:24 -0500 (Tue, 04 Nov 2025) EllapsedTime: 63.3 seconds RetCode: 0 Status: OK PackageFile: IsoBayes_1.8.0.tgz PackageFileSize: 1.75 MiB