Package: InteractiveComplexHeatmap Version: 1.17.0 Command: /home/biocbuild/R/R/bin/R CMD INSTALL InteractiveComplexHeatmap StartedAt: 2025-10-16 21:26:53 -0000 (Thu, 16 Oct 2025) EndedAt: 2025-10-16 21:27:12 -0000 (Thu, 16 Oct 2025) EllapsedTime: 18.8 seconds RetCode: 0 Status: OK