Package: InteractiveComplexHeatmap Version: 1.17.0 Command: /home/biocbuild/R/R/bin/R CMD build --keep-empty-dirs --no-resave-data InteractiveComplexHeatmap StartedAt: 2025-10-17 02:03:28 -0000 (Fri, 17 Oct 2025) EndedAt: 2025-10-17 02:04:20 -0000 (Fri, 17 Oct 2025) EllapsedTime: 52.0 seconds RetCode: 0 Status: OK PackageFile: InteractiveComplexHeatmap_1.17.0.tar.gz PackageFileSize: 937 KiB