Package: InteractiveComplexHeatmap Version: 1.17.0 Command: F:\biocbuild\bbs-3.22-bioc\R\bin\R.exe CMD check --no-multiarch --install=check:InteractiveComplexHeatmap.install-out.txt --library=F:\biocbuild\bbs-3.22-bioc\R\library --no-vignettes --timings InteractiveComplexHeatmap_1.17.0.tar.gz StartedAt: 2025-08-15 04:21:48 -0400 (Fri, 15 Aug 2025) EndedAt: 2025-08-15 04:24:00 -0400 (Fri, 15 Aug 2025) EllapsedTime: 131.3 seconds RetCode: 0 Status: OK CheckDir: InteractiveComplexHeatmap.Rcheck Warnings: 0