Package: InteractiveComplexHeatmap Version: 1.17.0 Command: /Library/Frameworks/R.framework/Resources/bin/R CMD INSTALL InteractiveComplexHeatmap StartedAt: 2025-10-19 15:18:32 -0400 (Sun, 19 Oct 2025) EndedAt: 2025-10-19 15:18:53 -0400 (Sun, 19 Oct 2025) EllapsedTime: 20.8 seconds RetCode: 0 Status: OK