Package: InteractiveComplexHeatmap Version: 1.17.0 Command: /Library/Frameworks/R.framework/Resources/bin/R CMD build --keep-empty-dirs --no-resave-data InteractiveComplexHeatmap StartedAt: 2025-10-19 17:44:02 -0400 (Sun, 19 Oct 2025) EndedAt: 2025-10-19 17:45:07 -0400 (Sun, 19 Oct 2025) EllapsedTime: 65.1 seconds RetCode: 0 Status: OK PackageFile: InteractiveComplexHeatmap_1.17.0.tar.gz PackageFileSize: 968.6 KiB