Package: InteractiveComplexHeatmap Version: 1.17.0 Command: rm -rf InteractiveComplexHeatmap.buildbin-libdir && mkdir InteractiveComplexHeatmap.buildbin-libdir && /Users/biocbuild/BBS/utils/build-universal.sh InteractiveComplexHeatmap_1.17.0.tar.gz /Library/Frameworks/R.framework/Resources/bin/R InteractiveComplexHeatmap.buildbin-libdir StartedAt: 2025-10-20 03:14:53 -0400 (Mon, 20 Oct 2025) EndedAt: 2025-10-20 03:15:16 -0400 (Mon, 20 Oct 2025) EllapsedTime: 23.2 seconds RetCode: 0 Status: OK PackageFile: InteractiveComplexHeatmap_1.17.0.tgz PackageFileSize: 1.153 MiB