Package: IntEREst Version: 1.33.0 Command: /home/biocbuild/R/R/bin/R CMD build --keep-empty-dirs --no-resave-data IntEREst StartedAt: 2025-10-21 00:39:11 -0000 (Tue, 21 Oct 2025) EndedAt: 2025-10-21 00:41:16 -0000 (Tue, 21 Oct 2025) EllapsedTime: 125.0 seconds RetCode: 0 Status: OK PackageFile: IntEREst_1.33.0.tar.gz PackageFileSize: 1.336 MiB