Package: IntEREst Version: 1.33.0 Command: F:\biocbuild\bbs-3.22-bioc\R\bin\R.exe CMD check --no-multiarch --install=check:IntEREst.install-out.txt --library=F:\biocbuild\bbs-3.22-bioc\R\library --no-vignettes --timings IntEREst_1.33.0.tar.gz StartedAt: 2025-08-15 04:22:52 -0400 (Fri, 15 Aug 2025) EndedAt: 2025-08-15 04:30:12 -0400 (Fri, 15 Aug 2025) EllapsedTime: 440.2 seconds RetCode: 0 Status: OK CheckDir: IntEREst.Rcheck Warnings: 0