Package: Informeasure Version: 1.19.0 Command: rm -rf Informeasure.buildbin-libdir && mkdir Informeasure.buildbin-libdir && F:\biocbuild\bbs-3.22-bioc\R\bin\R.exe CMD INSTALL --build --library=Informeasure.buildbin-libdir Informeasure_1.19.0.tar.gz StartedAt: 2025-08-15 10:30:39 -0400 (Fri, 15 Aug 2025) EndedAt: 2025-08-15 10:31:13 -0400 (Fri, 15 Aug 2025) EllapsedTime: 33.4 seconds RetCode: 0 Status: OK PackageFile: Informeasure_1.19.0.zip PackageFileSize: 333 KiB