Package: Informeasure Version: 1.19.0 Command: /home/biocbuild/bbs-3.22-bioc/R/bin/R CMD INSTALL Informeasure StartedAt: 2025-10-23 15:02:15 -0400 (Thu, 23 Oct 2025) EndedAt: 2025-10-23 15:02:27 -0400 (Thu, 23 Oct 2025) EllapsedTime: 12.6 seconds RetCode: 0 Status: OK