Package: Informeasure Version: 1.19.0 Command: /Library/Frameworks/R.framework/Resources/bin/R CMD INSTALL Informeasure StartedAt: 2025-10-21 15:02:02 -0400 (Tue, 21 Oct 2025) EndedAt: 2025-10-21 15:02:08 -0400 (Tue, 21 Oct 2025) EllapsedTime: 6.1 seconds RetCode: 0 Status: OK