Package: Informeasure Version: 1.19.0 Command: rm -rf Informeasure.buildbin-libdir && mkdir Informeasure.buildbin-libdir && /Users/biocbuild/BBS/utils/build-universal.sh Informeasure_1.19.0.tar.gz /Library/Frameworks/R.framework/Resources/bin/R Informeasure.buildbin-libdir StartedAt: 2025-10-21 23:04:53 -0400 (Tue, 21 Oct 2025) EndedAt: 2025-10-21 23:04:55 -0400 (Tue, 21 Oct 2025) EllapsedTime: 2.0 seconds RetCode: 0 Status: OK PackageFile: Informeasure_1.19.0.tgz PackageFileSize: 329.8 KiB