Package: Informeasure Version: 1.19.0 Maintainer: Chu Pan MaintainerEmail: chu.pan at hnu.edu.cn git_url: https://git.bioconductor.org/packages/Informeasure git_branch: devel git_last_commit: 7ca83eb git_last_commit_date: 2025-04-15 12:10:17 -0400 (Tue, 15 Apr 2025)