Package: InTAD Version: 1.29.1 Command: /home/biocbuild/R/R/bin/R CMD INSTALL InTAD StartedAt: 2025-10-02 20:48:50 -0000 (Thu, 02 Oct 2025) EndedAt: 2025-10-02 20:49:39 -0000 (Thu, 02 Oct 2025) EllapsedTime: 49.3 seconds RetCode: 0 Status: OK