Package: InTAD Version: 1.29.1 Command: /home/biocbuild/R/R/bin/R CMD check --install=check:InTAD.install-out.txt --library=/home/biocbuild/R/R/site-library --no-vignettes --timings InTAD_1.29.1.tar.gz StartedAt: 2025-10-03 08:15:18 -0000 (Fri, 03 Oct 2025) EndedAt: 2025-10-03 08:22:02 -0000 (Fri, 03 Oct 2025) EllapsedTime: 403.6 seconds RetCode: 0 Status: OK CheckDir: InTAD.Rcheck Warnings: 0