Package: InTAD Version: 1.29.1 Command: /home/biocbuild/R/R/bin/R CMD build --keep-empty-dirs --no-resave-data InTAD StartedAt: 2025-10-03 00:45:46 -0000 (Fri, 03 Oct 2025) EndedAt: 2025-10-03 00:47:10 -0000 (Fri, 03 Oct 2025) EllapsedTime: 84.0 seconds RetCode: 0 Status: OK PackageFile: InTAD_1.29.1.tar.gz PackageFileSize: 969.3 KiB