Package: IdeoViz Version: 1.46.0 Command: /home/biocbuild/R/R/bin/R CMD INSTALL IdeoViz StartedAt: 2025-11-17 21:39:21 -0000 (Mon, 17 Nov 2025) EndedAt: 2025-11-17 21:40:00 -0000 (Mon, 17 Nov 2025) EllapsedTime: 39.4 seconds RetCode: 0 Status: OK