Package: IdeoViz Version: 1.46.0 Command: /home/biocbuild/R/R/bin/R CMD build --keep-empty-dirs --no-resave-data IdeoViz StartedAt: 2025-11-18 02:24:37 -0000 (Tue, 18 Nov 2025) EndedAt: 2025-11-18 02:24:38 -0000 (Tue, 18 Nov 2025) EllapsedTime: 1.0 seconds RetCode: 0 Status: OK PackageFile: IdeoViz_1.46.0.tar.gz PackageFileSize: 411.8 KiB