Package: IdeoViz Version: 1.45.0 Command: chmod a+r IdeoViz -R && F:\biocbuild\bbs-3.22-bioc\R\bin\R.exe CMD build --keep-empty-dirs --no-resave-data IdeoViz StartedAt: 2025-08-14 20:52:40 -0400 (Thu, 14 Aug 2025) EndedAt: 2025-08-14 20:52:43 -0400 (Thu, 14 Aug 2025) EllapsedTime: 3.0 seconds RetCode: 0 Status: OK PackageFile: IdeoViz_1.45.0.tar.gz PackageFileSize: 411.7 KiB