Package: IdeoViz Version: 1.46.0 Command: /home/biocbuild/bbs-3.22-bioc/R/bin/R CMD INSTALL IdeoViz StartedAt: 2025-11-17 17:42:14 -0500 (Mon, 17 Nov 2025) EndedAt: 2025-11-17 17:42:44 -0500 (Mon, 17 Nov 2025) EllapsedTime: 30.0 seconds RetCode: 0 Status: OK