Package: IdeoViz Version: 1.46.0 Command: /Library/Frameworks/R.framework/Resources/bin/R CMD INSTALL IdeoViz StartedAt: 2025-11-17 17:53:27 -0500 (Mon, 17 Nov 2025) EndedAt: 2025-11-17 17:54:32 -0500 (Mon, 17 Nov 2025) EllapsedTime: 65.2 seconds RetCode: 0 Status: OK