Package: IdeoViz Version: 1.46.0 Command: /Library/Frameworks/R.framework/Resources/bin/R CMD check --install=check:IdeoViz.install-out.txt --library=/Library/Frameworks/R.framework/Resources/library --no-vignettes --timings IdeoViz_1.46.0.tar.gz StartedAt: 2025-11-10 20:33:27 -0500 (Mon, 10 Nov 2025) EndedAt: 2025-11-10 20:34:37 -0500 (Mon, 10 Nov 2025) EllapsedTime: 69.9 seconds RetCode: 0 Status: WARNINGS CheckDir: IdeoViz.Rcheck Warnings: 2