Package: IdeoViz Version: 1.46.0 Command: rm -rf IdeoViz.buildbin-libdir && mkdir IdeoViz.buildbin-libdir && /Users/biocbuild/BBS/utils/build-universal.sh IdeoViz_1.46.0.tar.gz /Library/Frameworks/R.framework/Resources/bin/R IdeoViz.buildbin-libdir StartedAt: 2025-11-10 23:23:35 -0500 (Mon, 10 Nov 2025) EndedAt: 2025-11-10 23:23:50 -0500 (Mon, 10 Nov 2025) EllapsedTime: 14.3 seconds RetCode: 0 Status: OK PackageFile: IdeoViz_1.46.0.tgz PackageFileSize: 450.6 KiB