Package: IdeoViz Version: 1.46.0 Command: /Library/Frameworks/R.framework/Resources/bin/R CMD check --install=check:IdeoViz.install-out.txt --library=/Library/Frameworks/R.framework/Resources/library --no-vignettes --timings IdeoViz_1.46.0.tar.gz StartedAt: 2025-11-18 07:49:03 -0500 (Tue, 18 Nov 2025) EndedAt: 2025-11-18 07:50:10 -0500 (Tue, 18 Nov 2025) EllapsedTime: 67.6 seconds RetCode: 0 Status: WARNINGS CheckDir: IdeoViz.Rcheck Warnings: 2